BEGIN:VCALENDAR
VERSION:2.0
PRODID:icalendar-ruby
CALSCALE:GREGORIAN
BEGIN:VEVENT
DTSTAMP:20260421T144002Z
UID:071714e1-ad96-4e34-a614-f1053bfbd846
DTSTART;VALUE=DATE:20250925
DESCRIPTION:Property ID# 596769\, Locatoin: Ray White\, Level 2\, 76 Herefo
 rd Street\, Time: 11:00AM
SUMMARY:Auction for 
END:VEVENT
END:VCALENDAR
