BEGIN:VCALENDAR
VERSION:2.0
PRODID:icalendar-ruby
CALSCALE:GREGORIAN
BEGIN:VEVENT
DTSTAMP:20260421T085502Z
UID:243a3247-b22c-4c1e-9b5a-5f6997734f62
DTSTART;VALUE=DATE:20240424
DESCRIPTION:Property ID# 573597\, Locatoin: Gold Auction Rooms\, 471 Papanu
 i Road\, Time: 10:00AM
SUMMARY:Auction for 
END:VEVENT
END:VCALENDAR
