BEGIN:VCALENDAR
VERSION:2.0
PRODID:icalendar-ruby
CALSCALE:GREGORIAN
BEGIN:VEVENT
DTSTAMP:20260419T211300Z
UID:97a0ee7e-3485-455c-81dd-b1ac89515698
DTSTART;VALUE=DATE:20201119
DESCRIPTION:Property ID# 493485\, Time: 4:00PM
SUMMARY:Auction for 
END:VEVENT
END:VCALENDAR
